BEGIN:VCALENDAR
VERSION:2.0
PRODID:-//Coco Cabaret - ECPv6.15.20//NONSGML v1.0//EN
CALSCALE:GREGORIAN
METHOD:PUBLISH
X-WR-CALNAME:Coco Cabaret
X-ORIGINAL-URL:https://coco-cabaret.com
X-WR-CALDESC:Events for Coco Cabaret
REFRESH-INTERVAL;VALUE=DURATION:PT1H
X-Robots-Tag:noindex
X-PUBLISHED-TTL:PT1H
BEGIN:VTIMEZONE
TZID:America/Mexico_City
BEGIN:STANDARD
TZOFFSETFROM:-0600
TZOFFSETTO:-0600
TZNAME:CST
DTSTART:20250101T000000
END:STANDARD
END:VTIMEZONE
BEGIN:VEVENT
DTSTART;TZID=America/Mexico_City:20260424T210000
DTEND;TZID=America/Mexico_City:20260424T220000
DTSTAMP:20260424T035302
CREATED:20260305T191151Z
LAST-MODIFIED:20260305T191151Z
UID:6548-1777064400-1777068000@coco-cabaret.com
SUMMARY:COCO’S IN CONTROL: The Janet Jackson Experience
DESCRIPTION:Coco Montrese\, RuPaul’s Drag Race Royalty\, honors her greatest inspiration\, the incomparable Janet Jackson!
URL:https://coco-cabaret.com/event/cocos-in-control-the-janet-jackson-experience-4/
LOCATION:Coco Cabaret\, 289 Francisco I. Madero\, Col. Emiliano Zapata\, Puerto Vallarta\, JAL\, 48380\, Mexico
ATTACH;FMTTYPE=image/jpeg:https://coco-cabaret.com/wp-content/uploads/2026/03/8efbfd6874375e5bc51b86c530b8a91c.jpg
END:VEVENT
END:VCALENDAR