BEGIN:VCALENDAR
VERSION:2.0
PRODID:-//Coco Cabaret - ECPv6.15.20//NONSGML v1.0//EN
CALSCALE:GREGORIAN
METHOD:PUBLISH
X-ORIGINAL-URL:https://coco-cabaret.com
X-WR-CALDESC:Events for Coco Cabaret
REFRESH-INTERVAL;VALUE=DURATION:PT1H
X-Robots-Tag:noindex
X-PUBLISHED-TTL:PT1H
BEGIN:VTIMEZONE
TZID:America/Mexico_City
BEGIN:STANDARD
TZOFFSETFROM:-0600
TZOFFSETTO:-0600
TZNAME:CST
DTSTART:20250101T000000
END:STANDARD
END:VTIMEZONE
BEGIN:VEVENT
DTSTART;TZID=America/Mexico_City:20260329T170000
DTEND;TZID=America/Mexico_City:20260329T180000
DTSTAMP:20260421T043124
CREATED:20260302T221323Z
LAST-MODIFIED:20260312T224833Z
UID:6500-1774803600-1774807200@coco-cabaret.com
SUMMARY:Viva México - Dance\, Music and Tradition
DESCRIPTION:Viva México is a spectacular show brimming with joy\, tradition\, and pride that celebrates the rich cultural heritage of our country.
URL:https://coco-cabaret.com/event/viva-mexico-dance-music-and-tradition-4/
LOCATION:Coco Cabaret\, Francisco I. Madero #289\, Col. Emiliano Zapata\, Puerto Vallarta\, JAL\, 48380\, Mexico
ATTACH;FMTTYPE=image/jpeg:https://coco-cabaret.com/wp-content/uploads/2026/03/df31204ac3e8d9302372d623396f3621.jpg
END:VEVENT
BEGIN:VEVENT
DTSTART;TZID=America/Mexico_City:20260329T190000
DTEND;TZID=America/Mexico_City:20260329T200000
DTSTAMP:20260421T043124
CREATED:20260312T224802Z
LAST-MODIFIED:20260313T034034Z
UID:6611-1774810800-1774814400@coco-cabaret.com
SUMMARY:Ricky Martin - Come With Me
DESCRIPTION:High-energy Ricky Martin tribute starring Alex Morán and 10 dancers\, with iconic hits\, dazzling visuals\, costumes and dynamic lighting.
URL:https://coco-cabaret.com/event/ricky-martin-come-with-me-5/
LOCATION:Coco Cabaret\, Francisco I. Madero #289\, Col. Emiliano Zapata\, Puerto Vallarta\, JAL\, 48380\, Mexico
ATTACH;FMTTYPE=image/jpeg:https://coco-cabaret.com/wp-content/uploads/2026/03/9fd3c4a62694ac057c6161a724362a69.jpg
END:VEVENT
BEGIN:VEVENT
DTSTART;TZID=America/Mexico_City:20260329T210000
DTEND;TZID=America/Mexico_City:20260329T220000
DTSTAMP:20260421T043124
CREATED:20251226T145412Z
LAST-MODIFIED:20251226T145412Z
UID:5685-1774818000-1774821600@coco-cabaret.com
SUMMARY:Madonna - Tribute Concert
DESCRIPTION:Madonna Tribute starring Waleska\, with the best repertoire for Madonna fans that will exceed all expectations.
URL:https://coco-cabaret.com/event/madonna-tribute-concert-59/
LOCATION:Coco Cabaret\, Francisco I. Madero #289\, Col. Emiliano Zapata\, Puerto Vallarta\, JAL\, 48380\, Mexico
ATTACH;FMTTYPE=image/jpeg:https://coco-cabaret.com/wp-content/uploads/2025/10/3415c84b0bbbbea8b71165486e18ead9.jpg
END:VEVENT
END:VCALENDAR