BEGIN:VCALENDAR
VERSION:2.0
PRODID:-//Coco Cabaret - ECPv6.15.20//NONSGML v1.0//EN
CALSCALE:GREGORIAN
METHOD:PUBLISH
X-ORIGINAL-URL:https://coco-cabaret.com
X-WR-CALDESC:Events for Coco Cabaret
REFRESH-INTERVAL;VALUE=DURATION:PT1H
X-Robots-Tag:noindex
X-PUBLISHED-TTL:PT1H
BEGIN:VTIMEZONE
TZID:America/Mexico_City
BEGIN:STANDARD
TZOFFSETFROM:-0600
TZOFFSETTO:-0600
TZNAME:CST
DTSTART:20250101T000000
END:STANDARD
END:VTIMEZONE
BEGIN:VEVENT
DTSTART;TZID=America/Mexico_City:20260325T190000
DTEND;TZID=America/Mexico_City:20260325T200000
DTSTAMP:20260421T043150
CREATED:20260313T054514Z
LAST-MODIFIED:20260313T054514Z
UID:6625-1774465200-1774468800@coco-cabaret.com
SUMMARY:Luis Villanueva-Timeless Standards
DESCRIPTION:Live show with Luis Villanueva celebrating timeless classics by Sinatra\, Nat King Cole and more in an elegant night of nostalgia and music.\n\n\nStep into an evening of elegance\, nostalgia\, and unforgettable melodies with Timeless Standards – An American Classics Live Experience\, starring international SingerLuis Villanueva. \n \n \nThis live show celebrates the golden era of American music\, featuring iconic songs from the Great American Songbook — the timeless classics made famous by legends like Frank Sinatra\, Nat King Cole\, and Tony Bennett. \n \n \nWith a powerful and expressive voice\, Luis Villanueva brings these beloved songs to life through heartfelt interpretations\, storytelling\, and moments of connection with the audience. From romantic ballads to uplifting swing melodies\, every performance invites listeners on a journey through the music that shaped generations. \n \n \nBacked by live musicians and presented in an intimate cabaret-style setting\, the show blends nostalgia\, elegance\, and emotional depth — creating an atmosphere where every note feels personal and every song becomes a shared memory. \n \n \nWhether you grew up with these classics or are discovering them for the first time\, Timeless Standards is more than a concert — it’s a musical experience that celebrates the beauty of timeless songs and the power of live performance.
URL:https://coco-cabaret.com/event/luis-villanueva-timeless-standards/
LOCATION:Coco Cabaret\, Francisco I. Madero #289\, Col. Emiliano Zapata\, Puerto Vallarta\, JAL\, 48380\, Mexico
ATTACH;FMTTYPE=image/jpeg:https://coco-cabaret.com/wp-content/uploads/2026/03/95362be0b4d63be7435cbb99be5fbacb.jpg
END:VEVENT
BEGIN:VEVENT
DTSTART;TZID=America/Mexico_City:20260325T210000
DTEND;TZID=America/Mexico_City:20260325T220000
DTSTAMP:20260421T043150
CREATED:20250923T203946Z
LAST-MODIFIED:20251127T202607Z
UID:4365-1774472400-1774476000@coco-cabaret.com
SUMMARY:Boys on Fire - The Best Of!
DESCRIPTION:Celebrating  5 years of being one of the hottest shows in Puerto Vallarta the Boys on Fire aré back in fine form.
URL:https://coco-cabaret.com/event/boys-on-fire-the-best-of-32/
LOCATION:Coco Cabaret\, Francisco I. Madero #289\, Col. Emiliano Zapata\, Puerto Vallarta\, JAL\, 48380\, Mexico
ATTACH;FMTTYPE=image/jpeg:https://coco-cabaret.com/wp-content/uploads/2025/09/2fb8c70f872cfa380885e61390631664.jpg
END:VEVENT
END:VCALENDAR