BEGIN:VCALENDAR
VERSION:2.0
PRODID:-//Coco Cabaret - ECPv6.15.20//NONSGML v1.0//EN
CALSCALE:GREGORIAN
METHOD:PUBLISH
X-ORIGINAL-URL:https://coco-cabaret.com
X-WR-CALDESC:Events for Coco Cabaret
REFRESH-INTERVAL;VALUE=DURATION:PT1H
X-Robots-Tag:noindex
X-PUBLISHED-TTL:PT1H
BEGIN:VTIMEZONE
TZID:America/Mexico_City
BEGIN:STANDARD
TZOFFSETFROM:-0600
TZOFFSETTO:-0600
TZNAME:CST
DTSTART:20250101T000000
END:STANDARD
END:VTIMEZONE
BEGIN:VEVENT
DTSTART;TZID=America/Mexico_City:20260311T170000
DTEND;TZID=America/Mexico_City:20260311T180000
DTSTAMP:20260421T043303
CREATED:20250922T230816Z
LAST-MODIFIED:20250922T230816Z
UID:4293-1773248400-1773252000@coco-cabaret.com
SUMMARY:Ada Vox - The Music in Me
DESCRIPTION:Ada Vox\, the diva known as “The Voice of Drag”\, is bringing her rafter shaking voice & masterful musical storytelling back to Coco Cabaret
URL:https://coco-cabaret.com/event/ada-vox-the-music-in-me-22/
LOCATION:Coco Cabaret\, Francisco I. Madero #289\, Col. Emiliano Zapata\, Puerto Vallarta\, JAL\, 48380\, Mexico
ATTACH;FMTTYPE=image/jpeg:https://coco-cabaret.com/wp-content/uploads/2025/09/48e9948d389efb6987b27a6f52c38f64.jpg
END:VEVENT
BEGIN:VEVENT
DTSTART;TZID=America/Mexico_City:20260311T190000
DTEND;TZID=America/Mexico_City:20260311T200000
DTSTAMP:20260421T043303
CREATED:20260302T230634Z
LAST-MODIFIED:20260302T230634Z
UID:6515-1773255600-1773259200@coco-cabaret.com
SUMMARY:Dolly Parton - tribute show by Daphne Moen
DESCRIPTION:Heartfelt performance of Dolly’s most popular songs from “Jolene” to “I Will Always Love You”.
URL:https://coco-cabaret.com/event/dolly-parton-tribute-show-by-daphne-moen/
LOCATION:Coco Cabaret\, Francisco I. Madero #289\, Col. Emiliano Zapata\, Puerto Vallarta\, JAL\, 48380\, Mexico
ATTACH;FMTTYPE=image/jpeg:https://coco-cabaret.com/wp-content/uploads/2026/03/67f0321ca9e85a9942cdbbf58c64d232.jpg
END:VEVENT
BEGIN:VEVENT
DTSTART;TZID=America/Mexico_City:20260311T210000
DTEND;TZID=America/Mexico_City:20260311T220000
DTSTAMP:20260421T043303
CREATED:20250923T203946Z
LAST-MODIFIED:20251127T202554Z
UID:4363-1773262800-1773266400@coco-cabaret.com
SUMMARY:Boys on Fire - The Best Of!
DESCRIPTION:Celebrating  5 years of being one of the hottest shows in Puerto Vallarta the Boys on Fire aré back in fine form.
URL:https://coco-cabaret.com/event/boys-on-fire-the-best-of-30/
LOCATION:Coco Cabaret\, Francisco I. Madero #289\, Col. Emiliano Zapata\, Puerto Vallarta\, JAL\, 48380\, Mexico
ATTACH;FMTTYPE=image/jpeg:https://coco-cabaret.com/wp-content/uploads/2025/09/2fb8c70f872cfa380885e61390631664.jpg
END:VEVENT
END:VCALENDAR