BEGIN:VCALENDAR
VERSION:2.0
PRODID:-//Coco Cabaret - ECPv6.15.20//NONSGML v1.0//EN
CALSCALE:GREGORIAN
METHOD:PUBLISH
X-ORIGINAL-URL:https://coco-cabaret.com
X-WR-CALDESC:Events for Coco Cabaret
REFRESH-INTERVAL;VALUE=DURATION:PT1H
X-Robots-Tag:noindex
X-PUBLISHED-TTL:PT1H
BEGIN:VTIMEZONE
TZID:America/Mexico_City
BEGIN:STANDARD
TZOFFSETFROM:-0600
TZOFFSETTO:-0600
TZNAME:CST
DTSTART:20250101T000000
END:STANDARD
END:VTIMEZONE
BEGIN:VEVENT
DTSTART;TZID=America/Mexico_City:20260101T190000
DTEND;TZID=America/Mexico_City:20260101T200000
DTSTAMP:20260421T074827
CREATED:20251120T072652Z
LAST-MODIFIED:20251120T072652Z
UID:5212-1767294000-1767297600@coco-cabaret.com
SUMMARY:Hedda Lettuce - Dressing on The Side
DESCRIPTION:Drag legend and TikTok star\, Hedda Lettuce\, is back! New show features her live vocals\, world-class improv\, and razor-sharp stand-up.
URL:https://coco-cabaret.com/event/hedda-lettuce-dressing-on-the-side-10/
LOCATION:Coco Cabaret\, Francisco I. Madero #289\, Col. Emiliano Zapata\, Puerto Vallarta\, JAL\, 48380\, Mexico
ATTACH;FMTTYPE=image/jpeg:https://coco-cabaret.com/wp-content/uploads/2025/09/0aa1f33a942321c34def48aafad7c47f-1.jpg
END:VEVENT
BEGIN:VEVENT
DTSTART;TZID=America/Mexico_City:20260101T210000
DTEND;TZID=America/Mexico_City:20260101T220000
DTSTAMP:20260421T074827
CREATED:20251222T160429Z
LAST-MODIFIED:20251222T160429Z
UID:5646-1767301200-1767304800@coco-cabaret.com
SUMMARY:Britney - The Puerto Vallarta Residency
DESCRIPTION:Britney Spears by International Pole Dancing Champion\, Finalist on America’s Got Talent\, and Vallarta’s very own Pop Star\, Steven Retchless.
URL:https://coco-cabaret.com/event/britney-the-puerto-vallarta-residency-17/
LOCATION:Coco Cabaret\, Francisco I. Madero #289\, Col. Emiliano Zapata\, Puerto Vallarta\, JAL\, 48380\, Mexico
ATTACH;FMTTYPE=image/jpeg:https://coco-cabaret.com/wp-content/uploads/2025/10/fb6864165ed8873ab98e5652c93818a0.jpg
END:VEVENT
END:VCALENDAR