BEGIN:VCALENDAR
VERSION:2.0
PRODID:-//Coco Cabaret - ECPv6.15.20//NONSGML v1.0//EN
CALSCALE:GREGORIAN
METHOD:PUBLISH
X-WR-CALNAME:Coco Cabaret
X-ORIGINAL-URL:https://coco-cabaret.com
X-WR-CALDESC:Events for Coco Cabaret
REFRESH-INTERVAL;VALUE=DURATION:PT1H
X-Robots-Tag:noindex
X-PUBLISHED-TTL:PT1H
BEGIN:VTIMEZONE
TZID:America/Mexico_City
BEGIN:STANDARD
TZOFFSETFROM:-0600
TZOFFSETTO:-0600
TZNAME:CST
DTSTART:20240101T000000
END:STANDARD
END:VTIMEZONE
BEGIN:VEVENT
DTSTART;TZID=America/Mexico_City:20251229T190000
DTEND;TZID=America/Mexico_City:20251229T200000
DTSTAMP:20260421T074740
CREATED:20251002T010348Z
LAST-MODIFIED:20251002T010348Z
UID:4653-1767034800-1767038400@coco-cabaret.com
SUMMARY:Britney - The Puerto Vallarta Residency
DESCRIPTION:Britney Spears by International Pole Dancing Champion\, Finalist on America’s Got Talent\, and Vallarta’s very own Pop Star\, Steven Retchless.
URL:https://coco-cabaret.com/event/britney-the-puerto-vallarta-residency-15/
LOCATION:Coco Cabaret\, Francisco I. Madero #289\, Col. Emiliano Zapata\, Puerto Vallarta\, JAL\, 48380\, Mexico
ATTACH;FMTTYPE=image/jpeg:https://coco-cabaret.com/wp-content/uploads/2025/10/fb6864165ed8873ab98e5652c93818a0.jpg
END:VEVENT
BEGIN:VEVENT
DTSTART;TZID=America/Mexico_City:20251229T210000
DTEND;TZID=America/Mexico_City:20251229T220000
DTSTAMP:20260421T074740
CREATED:20251120T071848Z
LAST-MODIFIED:20251120T071848Z
UID:5208-1767042000-1767045600@coco-cabaret.com
SUMMARY:Sam Smith - Tribute
DESCRIPTION:Come join us for a night of amazing music as we pay tribute to the one and only Sam Smith!
URL:https://coco-cabaret.com/event/sam-smith-tribute-15/
LOCATION:Coco Cabaret\, Francisco I. Madero #289\, Col. Emiliano Zapata\, Puerto Vallarta\, JAL\, 48380\, Mexico
ATTACH;FMTTYPE=image/jpeg:https://coco-cabaret.com/wp-content/uploads/2025/11/c09c0673b182fa40355288120090b6eb.jpg
END:VEVENT
END:VCALENDAR